BEGIN:VCALENDAR
PRODID:-//kirchenweb.ch gmbh//veranstaltungsausgabe v2.0//DE
VERSION:2.0
METHOD:PUBLISH
BEGIN:VEVENT
DTSTART:20260428T173000Z
DTEND:20260428T183000Z
LOCATION:Herz Jesu Kirche\, Gotthardstrasse\, 6410 Goldau
TRANSP:OPAQUE
SEQUENCE:0
UID:5521-veranstaltung@kath-arth-goldau.ch
DTSTAMP:20260122T071831Z
DESCRIPTION:Kontakt: John Joy\n\nWeitere Infos:
  https://www.kath-arth-goldau.ch/veranstaltung/5521
SUMMARY:Abendgottesdienst
PRIORITY:5
X-MICROSOFT-CDO-IMPORTANCE:1
CLASS:PUBLIC
END:VEVENT
END:VCALENDAR
