BEGIN:VCALENDAR
PRODID:-//kirchenweb.ch gmbh//veranstaltungsausgabe v2.0//DE
VERSION:2.0
METHOD:PUBLISH
BEGIN:VEVENT
DTSTART:20260501T060000Z
DTEND:20260501T070000Z
LOCATION:Herz Jesu Kirche\, Gotthardstrasse\, 6410 Goldau
TRANSP:OPAQUE
SEQUENCE:0
UID:5714-veranstaltung@kath-arth-goldau.ch
DTSTAMP:20260415T070310Z
DESCRIPTION:anschliessend eucharistische Anbetung\n\nKontakt: John Joy\n
 \nWeitere Infos: https://www.kath-arth-goldau.ch/veranstaltung/5714
SUMMARY:Gottesdienst mit Wochengedächtnis für die Verstorbenen
PRIORITY:5
X-MICROSOFT-CDO-IMPORTANCE:1
CLASS:PUBLIC
END:VEVENT
END:VCALENDAR
