BEGIN:VCALENDAR
PRODID:-//kirchenweb.ch gmbh//veranstaltungsausgabe v2.0//DE
VERSION:2.0
METHOD:PUBLISH
BEGIN:VEVENT
DTSTART:20260425T153000Z
DTEND:20260425T163000Z
LOCATION:Herz Jesu Kirche\, Gotthardstrasse\, 6410 Goldau
TRANSP:OPAQUE
SEQUENCE:0
UID:5804-veranstaltung@kath-arth-goldau.ch
DTSTAMP:20260415T071304Z
DESCRIPTION:Stiftmesse für:\n\nKontakt: John Joy\n\nWeitere Infos:
  https://www.kath-arth-goldau.ch/veranstaltung/5804
SUMMARY:Vorabendgottesdienst
PRIORITY:5
X-MICROSOFT-CDO-IMPORTANCE:1
CLASS:PUBLIC
END:VEVENT
END:VCALENDAR
