BEGIN:VCALENDAR
PRODID:-//kirchenweb.ch gmbh//veranstaltungsausgabe v2.0//DE
VERSION:2.0
METHOD:PUBLISH
BEGIN:VEVENT
DTSTART:20260426T070000Z
DTEND:20260426T080000Z
LOCATION:Herz Jesu Kirche\, Gotthardstrasse\, 6410 Goldau
TRANSP:OPAQUE
SEQUENCE:0
UID:5850-veranstaltung@kath-arth-goldau.ch
DTSTAMP:20260415T071346Z
DESCRIPTION:Stiftmesse für:\n– Kaspar Beeler-Habeck\n– Anna und
  Enrico Colombo-von Rickenbach\n\nKontakt: John Joy\n\nWeitere Infos:
  https://www.kath-arth-goldau.ch/veranstaltung/5850
SUMMARY:Sonntagsgottesdienst
PRIORITY:5
X-MICROSOFT-CDO-IMPORTANCE:1
CLASS:PUBLIC
END:VEVENT
END:VCALENDAR
