BEGIN:VCALENDAR
PRODID:-//kirchenweb.ch gmbh//veranstaltungsausgabe v2.0//DE
VERSION:2.0
METHOD:PUBLISH
BEGIN:VEVENT
DTSTART:20260503T070000Z
DTEND:20260503T080000Z
LOCATION:Herz Jesu Kirche\, Gotthardstrasse\, 6410 Goldau
TRANSP:OPAQUE
SEQUENCE:0
UID:5851-veranstaltung@kath-arth-goldau.ch
DTSTAMP:20260122T073659Z
DESCRIPTION:Kontakt: John Joy\n\nWeitere Infos:
  https://www.kath-arth-goldau.ch/veranstaltung/5851
SUMMARY:Sonntagsgottesdienst
PRIORITY:5
X-MICROSOFT-CDO-IMPORTANCE:1
CLASS:PUBLIC
END:VEVENT
END:VCALENDAR
