BEGIN:VCALENDAR
PRODID:-//kirchenweb.ch gmbh//veranstaltungsausgabe v2.0//DE
VERSION:2.0
METHOD:PUBLISH
BEGIN:VEVENT
DTSTART:20260425T160000Z
DTEND:20260425T170000Z
LOCATION:Pfarrkirche\, Bahnhofstrasse 10\, 6415 Arth
TRANSP:OPAQUE
SEQUENCE:0
UID:5912-veranstaltung@kath-arth-goldau.ch
DTSTAMP:20260122T100358Z
DESCRIPTION:Kontakt: Francis Alakkalkunnel VC\n\nWeitere Infos:
  https://www.kath-arth-goldau.ch/veranstaltung/5912
SUMMARY:Vorabendmesse
PRIORITY:5
X-MICROSOFT-CDO-IMPORTANCE:1
CLASS:PUBLIC
END:VEVENT
END:VCALENDAR
