BEGIN:VCALENDAR
PRODID:-//kirchenweb.ch gmbh//veranstaltungsausgabe v2.0//DE
VERSION:2.0
METHOD:PUBLISH
BEGIN:VEVENT
DTSTART:20260428T080000Z
DTEND:20260428T090000Z
LOCATION:Alterszentrum Chriesigarte\, Kirchfeldstrasse 5\, 6415 Arth
TRANSP:OPAQUE
SEQUENCE:0
UID:6009-veranstaltung@kath-arth-goldau.ch
DTSTAMP:20260122T100729Z
DESCRIPTION:Kontakt: anna.kamer@kath-arth-goldau.ch\n\nWeitere Infos:
  https://www.kath-arth-goldau.ch/veranstaltung/6009
SUMMARY:Rosenkranz Alterszentrum Chriesigarte
PRIORITY:5
X-MICROSOFT-CDO-IMPORTANCE:1
CLASS:PUBLIC
END:VEVENT
END:VCALENDAR
