BEGIN:VCALENDAR
PRODID:-//kirchenweb.ch gmbh//veranstaltungsausgabe v2.0//DE
VERSION:2.0
METHOD:PUBLISH
BEGIN:VEVENT
DTSTART:20260501T153000Z
DTEND:20260501T163000Z
LOCATION:Pfarrkirche\, Bahnhofstrasse 10\, 6415 Arth
TRANSP:OPAQUE
SEQUENCE:0
UID:6137-veranstaltung@kath-arth-goldau.ch
DTSTAMP:20260122T101220Z
DESCRIPTION:Kontakt: Francis Alakkalkunnel VC\n\nWeitere Infos:
  https://www.kath-arth-goldau.ch/veranstaltung/6137
SUMMARY:Aussetzung mit Anbetung und Rosenkranz
PRIORITY:5
X-MICROSOFT-CDO-IMPORTANCE:1
CLASS:PUBLIC
END:VEVENT
END:VCALENDAR
