BEGIN:VCALENDAR
PRODID:-//kirchenweb.ch gmbh//veranstaltungsausgabe v2.0//DE
VERSION:2.0
METHOD:PUBLISH
BEGIN:VEVENT
DTSTART:20260503T073000Z
DTEND:20260503T083000Z
LOCATION:Kapelle Rigi-Klösterli\, Klösterliweg 15\, 6410 Rigi-Klösterli
TRANSP:OPAQUE
SEQUENCE:0
UID:6317-veranstaltung@kath-arth-goldau.ch
DTSTAMP:20260123T121343Z
DESCRIPTION:Kontakt: Martin Camenzind\n\nWeitere Infos:
  https://www.kath-arth-goldau.ch/veranstaltung/6317
SUMMARY:Sonntagsmesse
PRIORITY:5
X-MICROSOFT-CDO-IMPORTANCE:1
CLASS:PUBLIC
END:VEVENT
END:VCALENDAR
