BEGIN:VCALENDAR
PRODID:-//kirchenweb.ch gmbh//veranstaltungsausgabe v2.0//DE
VERSION:2.0
METHOD:PUBLISH
BEGIN:VEVENT
DTSTART:20260429T133000Z
DTEND:20260429T143000Z
LOCATION:Kapelle Rigi-Klösterli\, Klösterliweg 15\, 6410 Rigi-Klösterli
TRANSP:OPAQUE
SEQUENCE:0
UID:6401-veranstaltung@kath-arth-goldau.ch
DTSTAMP:20260123T121736Z
DESCRIPTION:Kontakt: Martin Camenzind\n\nWeitere Infos:
  https://www.kath-arth-goldau.ch/veranstaltung/6401
SUMMARY:Hl. Messe
PRIORITY:5
X-MICROSOFT-CDO-IMPORTANCE:1
CLASS:PUBLIC
END:VEVENT
END:VCALENDAR
