BEGIN:VCALENDAR
PRODID:-//kirchenweb.ch gmbh//veranstaltungsausgabe v2.0//DE
VERSION:2.0
METHOD:PUBLISH
BEGIN:VEVENT
DTSTART:20260429T180000Z
DTEND:20260429T190000Z
LOCATION:Kapelle St. Adrian\, Zugerstrasse 114 \, 6415 Arth
TRANSP:OPAQUE
SEQUENCE:0
UID:6606-veranstaltung@kath-arth-goldau.ch
DTSTAMP:20260317T071923Z
DESCRIPTION:Kontakt: Francis Alakkalkunnel VC\n\nWeitere Infos:
  https://www.kath-arth-goldau.ch/veranstaltung/6606
SUMMARY:2. Hagelmesse\, Kapelle St. Adrian
PRIORITY:5
X-MICROSOFT-CDO-IMPORTANCE:1
CLASS:PUBLIC
END:VEVENT
END:VCALENDAR
