BEGIN:VCALENDAR
PRODID:-//kirchenweb.ch gmbh//veranstaltungsausgabe v2.0//DE
VERSION:2.0
METHOD:PUBLISH
BEGIN:VEVENT
DTSTART:20260427T180000Z
DTEND:20260427T190000Z
LOCATION:Pfarrkirche\, \, 6405 Immensee
TRANSP:OPAQUE
SEQUENCE:0
UID:6607-veranstaltung@kath-arth-goldau.ch
DTSTAMP:20260317T072000Z
DESCRIPTION:Hl. Messe in unserer Nachbarpfarrei Immensee\n\nAnschliessend
  gemütliches Beisammensein bei Kaffee und Nussgipfel\n\nKontakt: Francis
  Alakkalkunnel VC\n\nWeitere Infos:
  https://www.kath-arth-goldau.ch/veranstaltung/6607
SUMMARY:Bittgang nach Immensee
PRIORITY:5
X-MICROSOFT-CDO-IMPORTANCE:1
CLASS:PUBLIC
END:VEVENT
END:VCALENDAR
