BEGIN:VCALENDAR
PRODID:-//kirchenweb.ch gmbh//veranstaltungsausgabe v2.0//DE
VERSION:2.0
METHOD:PUBLISH
BEGIN:VEVENT
DTSTART;VALUE=DATE:20260429
DTEND;VALUE=DATE:20260430
LOCATION:Bauernhöfe in der Pfarrei Arth\, \,
TRANSP:OPAQUE
SEQUENCE:0
UID:6609-veranstaltung@kath-arth-goldau.ch
DTSTAMP:20260317T072228Z
DESCRIPTION:Kontakt: Francis Alakkalkunnel VC\n\nWeitere Infos:
  https://www.kath-arth-goldau.ch/veranstaltung/6609
SUMMARY:Hofsegnungen in der Pfarrei Arth
PRIORITY:5
X-MICROSOFT-CDO-IMPORTANCE:1
CLASS:PUBLIC
END:VEVENT
END:VCALENDAR
